Workbook

Sheet 附件
A1: 附件
A2: 陕西省整合规范八类医疗服务价格项目
A3: 财务分类 | B3: 编码 | C3: 项目名称 | D3: 服务产出 | E3: 价格构成 | F3: 计价单位 | J3: 计价说明
G4: 三级 | H4: 二级 | I4: 一级
A5: 治疗费 | B5: 015200000010000 | C5: 意识功能训练 | D5: 通过康复手段对各种疾病造成的昏迷、意识功能障碍等进行康复治疗，改善意识水平。 | E5: 所定价格涵盖计划制定、手法及应用不同康复设备完成声、光、电等各种感觉刺激及各种无创脑调控技术等步骤所需的人力资源、设备成本与基本物质资源消耗。 | F5: 半小时 | G5: 60 | H5: =ROUND(G5*0.8,0) -> 48 | I5: =ROUND(G5*0.64,0) -> 38 | J5: 1.每日限计费1个小时。2.此项目价格构成已涵盖声、光、电等各种感觉刺激费用，用于同一治疗目的时不再重复收取相关物理治疗项目费用。
A6: 治疗费 | B6: 015200000010001 | C6: 意识功能训练-每增加10分钟(加收) | F6: 10分钟 | G6: 20 | H6: =ROUND(G6*0.8,0) -> 16 | I6: =ROUND(G6*0.64,0) -> 13
A7: 治疗费 | B7: 015200000010100 | C7: 意识功能训练-人工智能辅助训练（扩展) | F7: 半小时 | G7: 60 | H7: =ROUND(G7*0.8,0) -> 48 | I7: =ROUND(G7*0.64,0) -> 38
A8: 治疗费 | B8: 015200000020000 | C8: 认知功能训练 | D8: 通过各种康复手段对认知功能障碍进行治疗，改善认知功能。 | E8: 所定价格涵盖计划制定、手法及应用不同康复设备进行认知功能训练等步骤所需的人力资源、设备成本与基本物质资源消耗。 | F8: 半小时 | G8: 70 | H8: =ROUND(G8*0.8,0) -> 56 | I8: =ROUND(G8*0.64,0) -> 45 | J8: 每日限计费1小时。
A9: 治疗费 | B9: 015200000020001 | C9: 认知功能训练-每增加10分钟（加收） | F9: 10分钟 | G9: 23 | H9: =ROUND(G9*0.8,0) -> 18 | I9: =ROUND(G9*0.64,0) -> 15
A10: 治疗费 | B10: 015200000020100 | C10: 认知功能训练-人工智能辅助训练（扩展） | F10: 半小时 | G10: 70 | H10: =ROUND(G10*0.8,0) -> 56 | I10: =ROUND(G10*0.64,0) -> 45
A11: 治疗费 | B11: 015200000030000 | C11: 吞咽功能训练 | D11: 通过各种康复手段对吞咽功能障碍进行治疗，改善摄食吞咽功能。 | E11: 所定价格涵盖计划制定、手法及应用不同康复设备进行吞咽功能训练等步骤所需的人力资源、设备成本与基本物质资源消耗。 | F11: 半小时 | G11: 80 | H11: =ROUND(G11*0.8,0) -> 64 | I11: =ROUND(G11*0.64,0) -> 51 | J11: 每日限计费1个小时。
A12: 治疗费 | B12: 015200000030001 | C12: 吞咽功能训练-每增加10分钟（加收） | F12: 10分钟 | G12: 26 | H12: =ROUND(G12*0.8,0) -> 21 | I12: =ROUND(G12*0.64,0) -> 17
A13: 治疗费 | B13: 015200000030100 | C13: 吞咽功能训练-人工智能辅助训练（扩展） | F13: 半小时 | G13: 80 | H13: =ROUND(G13*0.8,0) -> 64 | I13: =ROUND(G13*0.64,0) -> 51
A14: 治疗费 | B14: 015200000040000 | C14: 言语功能训练 | D14: 通过各种康复手段对言语-语言功能障碍进行治疗，改善言语-语言功能。 | E14: 所定价格涵盖计划制定、手法及应用不同康复设备进行言语功能训练等步骤所需的人力资源、设备成本与基本物质资源消耗。 | F14: 半小时 | G14: 70 | H14: =ROUND(G14*0.8,0) -> 56 | I14: =ROUND(G14*0.64,0) -> 45 | J14: 每日限计费1个小时。
A15: 治疗费 | B15: 015200000040001 | C15: 言语功能训练-每增加10分钟（加收） | F15: 10分钟 | G15: 23 | H15: =ROUND(G15*0.8,0) -> 18 | I15: =ROUND(G15*0.64,0) -> 15
A16: 治疗费 | B16: 015200000040100 | C16: 言语功能训练-人工智能辅助训练（扩展） | F16: 半小时 | G16: 70 | H16: =ROUND(G16*0.8,0) -> 56 | I16: =ROUND(G16*0.64,0) -> 45
A17: 治疗费 | B17: 015200000050000 | C17: 运动功能训练 | D17: 通过各种康复手段对四肢和躯干的运动功能障碍进行治疗，改善躯体运动功能。 | E17: 所定价格涵盖计划制定、手法及应用不同康复设备进行运动功能训练等步骤所需的人力资源、设备成本与基本物质资源消耗。 | F17: 半小时 | G17: 70 | H17: =ROUND(G17*0.8,0) -> 56 | I17: =ROUND(G17*0.64,0) -> 45 | J17: 每日限计费100分钟。
A18: 治疗费 | B18: 015200000050001 | C18: 运动功能训练-每增加10分钟（加收） | F18: 10分钟 | G18: 23 | H18: =ROUND(G18*0.8,0) -> 18 | I18: =ROUND(G18*0.64,0) -> 15
A19: 治疗费 | B19: 015200000050011 | C19: 运动功能训练-运动功能训练（水中）（加收） | F19: 半小时 | G19: 35 | H19: =ROUND(G19*0.8,0) -> 28 | I19: =ROUND(G19*0.64,0) -> 22
A20: 治疗费 | B20: 015200000050100 | C20: 运动功能训练-人工智能辅助训练（扩展） | F20: 半小时 | G20: 70 | H20: =ROUND(G20*0.8,0) -> 56 | I20: =ROUND(G20*0.64,0) -> 45
A21: 治疗费 | B21: 015200000060000 | C21: 脏器功能训练 | D21: =VLOOKUP(C21,[1]立项指南清稿!$B:$D,2,FALSE) -> 通过各种康复手段对脏器功能障碍进行治疗，改善相关脏器功能。 | E21: =VLOOKUP(C21,[1]立项指南清稿!$B:$D,3,FALSE) -> 所定价格涵盖计划制定、手法及应用不同康复设备进行脏器功能训练等步骤所需的人力资源、设备成本与基本物质资源消耗。 | F21: 半小时 | G21: 70 | H21: =ROUND(G21*0.8,0) -> 56 | I21: =ROUND(G21*0.64,0) -> 45 | J21: 每日限计费1个小时。
A22: 治疗费 | B22: 015200000060001 | C22: 脏器功能训练-每增加10分钟（加收） | F22: 10分钟 | G22: 23 | H22: =ROUND(G22*0.8,0) -> 18 | I22: =ROUND(G22*0.64,0) -> 15
A23: 治疗费 | B23: 015200000060100 | C23: 脏器功能训练-人工智能辅助训练（扩展） | F23: 半小时 | G23: 70 | H23: =ROUND(G23*0.8,0) -> 56 | I23: =ROUND(G23*0.64,0) -> 45
A24: 治疗费 | B24: 015200000070000 | C24: 辅助器具使用训练 | D24: =VLOOKUP(C24,[1]立项指南清稿!$B:$D,2,FALSE) -> 通过选取合适的各种辅助(器)具，结合日常生活活动的训练，提高患者使用辅助器具的能力。 | E24: =VLOOKUP(C24,[1]立项指南清稿!$B:$D,3,FALSE) -> 所定价格涵盖计划制定、各种辅助(器)具训练等步骤所需的人力资源和基本物质资源消耗。 | F24: 半小时 | G24: 20 | H24: =ROUND(G24*0.8,0) -> 16 | I24: =ROUND(G24*0.64,0) -> 13 | J24: 每日限计费1个小时。
A25: 治疗费 | B25: 015200000070001 | C25: 辅助器具使用训练-每增加10分钟（加收） | F25: 10分钟 | G25: 7 | H25: =ROUND(G25*0.8,0) -> 6 | I25: =ROUND(G25*0.64,0) -> 4
A26: 治疗费 | B26: 015200000070100 | C26: 辅助器具使用训练-人工智能辅助训练（扩展） | F26: 半小时 | G26: 20 | H26: =ROUND(G26*0.8,0) -> 16 | I26: =ROUND(G26*0.64,0) -> 13
A27: 治疗费 | B27: 015200000080000 | C27: 生活技能康复训练 | D27: =VLOOKUP(C27,[1]立项指南清稿!$B:$D,2,FALSE) -> 通过各种康复手段（含徒手、仪器或器械）对患者进行独立生活能力、家务劳动、社交技能等多方面康复训练，改善患者从日常生活到职业生涯全方位的能力。 | E27: =VLOOKUP(C27,[1]立项指南清稿!$B:$D,3,FALSE) -> 所定价格涵盖评估、计划制定、指导学习、模拟训练、实际动作训练等步骤所需的人力资源、设备成本与基本物质资源消耗。 | F27: 半小时 | G27: 70 | H27: =ROUND(G27*0.8,0) -> 56 | I27: =ROUND(G27*0.64,0) -> 45 | J27: 每日限计费1个小时。
A28: 治疗费 | B28: 015200000080001 | C28: 生活技能康复训练-每增加10分钟（加收） | F28: 10分钟 | G28: 23 | H28: =ROUND(G28*0.8,0) -> 18 | I28: =ROUND(G28*0.64,0) -> 15
A29: 治疗费 | B29: 015200000080100 | C29: 生活技能康复训练-人工智能辅助训练（扩展） | F29: 半小时 | G29: 70 | H29: =ROUND(G29*0.8,0) -> 56 | I29: =ROUND(G29*0.64,0) -> 45
A30: 治疗费 | B30: 015200000090000 | C30: 职业技能康复训练 | D30: =VLOOKUP(C30,[1]立项指南清稿!$B:$D,2,FALSE) -> 通过各种康复手段（含徒手、仪器或器械）对患者进行独立职业技能、工作模拟等多方面康复训练，改善患者从日常生活到职业生涯全方位的能力。 | E30: =VLOOKUP(C30,[1]立项指南清稿!$B:$D,3,FALSE) -> 所定价格涵盖评估、计划制定、指导学习、模拟训练、实际动作训练等步骤所需的人力资源、设备成本与基本物质资源消耗。 | F30: 半小时 | G30: 70 | H30: =ROUND(G30*0.8,0) -> 56 | I30: =ROUND(G30*0.64,0) -> 45 | J30: 每日限计费1个小时。
A31: 治疗费 | B31: 015200000090001 | C31: 职业技能康复训练-每增加10分钟（加收） | F31: 10分钟 | G31: 23 | H31: =ROUND(G31*0.8,0) -> 18 | I31: =ROUND(G31*0.64,0) -> 15
A32: 治疗费 | B32: 015200000090100 | C32: 职业技能康复训练-人工智能辅助训练（扩展） | F32: 半小时 | G32: 70 | H32: =ROUND(G32*0.8,0) -> 56 | I32: =ROUND(G32*0.64,0) -> 45
A33: 治疗费 | B33: 015200000100000 | C33: 神经发育障碍康复训练（个体） | D33: =VLOOKUP(C33,[1]立项指南清稿!$B:$D,2,FALSE) -> 采用一对一的形式，根据患者发育和能力评估结果制定计划，对患者进行技能训练，帮助患儿提升能力。 | E33: =VLOOKUP(C33,[1]立项指南清稿!$B:$D,3,FALSE) -> 所定价格涵盖评估、计划制定、指导学习、模拟训练、实际动作训练等步骤所需的人力资源、设备成本与基本物质资源消耗。 | F33: 半小时 | G33: 70 | H33: =ROUND(G33*0.8,0) -> 56 | I33: =ROUND(G33*0.64,0) -> 45 | J33: 每日限计费1个小时。
A34: 治疗费 | B34: 015200000100001 | C34: 神经发育障碍康复训练（个体）-每增加10分钟（加收） | F34: 10分钟 | G34: 23 | H34: =ROUND(G34*0.8,0) -> 18 | I34: =ROUND(G34*0.64,0) -> 15
A35: 治疗费 | B35: 015200000100100 | C35: 神经发育障碍康复训练（个体）-人工智能辅助训练（扩展） | F35: 半小时 | G35: 70 | H35: =ROUND(G35*0.8,0) -> 56 | I35: =ROUND(G35*0.64,0) -> 45
A36: 治疗费 | B36: 015200000110000 | C36: 神经发育障碍康复训练（团体） | D36: 通过一对多的形式，根据患者发育和能力评估结果制定计划，对患者进行技能训练，帮助患儿提升能力。 | E36: 所定价格涵盖评估、计划制定、指导学习、模拟训练、实际动作训练等步骤所需的人力资源、设备成本与基本物质资源消耗。 | F36: 半小时 | G36: 40 | H36: =ROUND(G36*0.8,0) -> 32 | I36: =ROUND(G36*0.64,0) -> 26 | J36: 每日限计费1个小时。
A37: 治疗费 | B37: 015200000110001 | C37: 神经发育障碍康复训练（团体）-每增加10分钟（加收） | F37: 10分钟 | G37: 13 | H37: =ROUND(G37*0.8,0) -> 10 | I37: =ROUND(G37*0.64,0) -> 8
A38: 治疗费 | B38: 015200000110100 | C38: 神经发育障碍康复训练（团体）-人工智能辅助训练（扩展） | F38: 半小时 | G38: 40 | H38: =ROUND(G38*0.8,0) -> 32 | I38: =ROUND(G38*0.64,0) -> 26
A39: 检查费 | B39: 015100000010000 | C39: 认知功能检查 | D39: =VLOOKUP(C39,[1]立项指南清稿!$B:$D,2,FALSE) -> 应用常用工具、仪器设备和软件程序等方式，对患者的记忆、注意、执行等认知功能水平进行测评分析，做出认知功能有无障碍及严重程度的判断。 | E39: =VLOOKUP(C39,[1]立项指南清稿!$B:$D,3,FALSE) -> 所定价格涵盖资料收集、状态评估、应用各种方式测查、分析、得出结论等步骤所需的人力资源、设备成本与基本物质资源消耗。 | F39: 次 | G39: 45 | H39: =ROUND(G39*0.8,0) -> 36 | I39: =ROUND(G39*0.64,0) -> 29 | J39: 不与临床量表项目同时收取。
A40: 检查费 | B40: 015100000010100 | C40: 认知功能检查-人工智能辅助检查（扩展） | F40: 次 | G40: 45 | H40: =ROUND(G40*0.8,0) -> 36 | I40: =ROUND(G40*0.64,0) -> 29
...
