Workbook

Sheet 附件
A1: 附件
A2: 陕西省整合规范八类医疗服务价格项目
A3: 财务分类 | B3: 编码 | C3: 项目名称 | D3: 服务产出 | E3: 价格构成 | F3: 计价单位 | J3: 计价说明
G4: 三级 | H4: 二级 | I4: 一级
A5: 治疗费 | B5: 015200000010000 | C5: 意识功能训练 | D5: 通过康复手段对各种疾病造成的昏迷、意识功能障碍等进行康复治疗，改善意识水平。 | E5: 所定价格涵盖计划制定、手法及应用不同康复设备完成声、光、电等各种感觉刺激及各种无创脑调控技术等步骤所需的人力资源、设备成本与基本物质资源消耗。 | F5: 半小时 | G5: 60 | H5: =ROUND(G5*0.8,0) -> 48 | I5: =ROUND(G5*0.64,0) -> 38 | J5: 1.每日限计费1个小时。2.此项目价格构成已涵盖声、光、电等各种感觉刺激费用，用于同一治疗目的时不再重复收取相关物理治疗项目费用。
A6: 治疗费 | B6: 015200000010001 | C6: 意识功能训练-每增加10分钟(加收) | F6: 10分钟 | G6: 20 | H6: =ROUND(G6*0.8,0) -> 16 | I6: =ROUND(G6*0.64,0) -> 13
A7: 治疗费 | B7: 015200000010100 | C7: 意识功能训练-人工智能辅助训练（扩展) | F7: 半小时 | G7: 60 | H7: =ROUND(G7*0.8,0) -> 48 | I7: =ROUND(G7*0.64,0) -> 38
A8: 治疗费 | B8: 015200000020000 | C8: 认知功能训练 | D8: 通过各种康复手段对认知功能障碍进行治疗，改善认知功能。 | E8: 所定价格涵盖计划制定、手法及应用不同康复设备进行认知功能训练等步骤所需的人力资源、设备成本与基本物质资源消耗。 | F8: 半小时 | G8: 70 | H8: =ROUND(G8*0.8,0) -> 56 | I8: =ROUND(G8*0.64,0) -> 45 | J8: 每日限计费1小时。
A9: 治疗费 | B9: 015200000020001 | C9: 认知功能训练-每增加10分钟（加收） | F9: 10分钟 | G9: 23 | H9: =ROUND(G9*0.8,0) -> 18 | I9: =ROUND(G9*0.64,0) -> 15
A10: 治疗费 | B10: 015200000020100 | C10: 认知功能训练-人工智能辅助训练（扩展） | F10: 半小时 | G10: 70 | H10: =ROUND(G10*0.8,0) -> 56 | I10: =ROUND(G10*0.64,0) -> 45
A11: 治疗费 | B11: 015200000030000 | C11: 吞咽功能训练 | D11: 通过各种康复手段对吞咽功能障碍进行治疗，改善摄食吞咽功能。 | E11: 所定价格涵盖计划制定、手法及应用不同康复设备进行吞咽功能训练等步骤所需的人力资源、设备成本与基本物质资源消耗。 | F11: 半小时 | G11: 80 | H11: =ROUND(G11*0.8,0) -> 64 | I11: =ROUND(G11*0.64,0) -> 51 | J11: 每日限计费1个小时。
A12: 治疗费 | B12: 015200000030001 | C12: 吞咽功能训练-每增加10分钟（加收） | F12: 10分钟 | G12: 26 | H12: =ROUND(G12*0.8,0) -> 21 | I12: =ROUND(G12*0.64,0) -> 17
A13: 治疗费 | B13: 015200000030100 | C13: 吞咽功能训练-人工智能辅助训练（扩展） | F13: 半小时 | G13: 80 | H13: =ROUND(G13*0.8,0) -> 64 | I13: =ROUND(G13*0.64,0) -> 51
A14: 治疗费 | B14: 015200000040000 | C14: 言语功能训练 | D14: 通过各种康复手段对言语-语言功能障碍进行治疗，改善言语-语言功能。 | E14: 所定价格涵盖计划制定、手法及应用不同康复设备进行言语功能训练等步骤所需的人力资源、设备成本与基本物质资源消耗。 | F14: 半小时 | G14: 70 | H14: =ROUND(G14*0.8,0) -> 56 | I14: =ROUND(G14*0.64,0) -> 45 | J14: 每日限计费1个小时。
A15: 治疗费 | B15: 015200000040001 | C15: 言语功能训练-每增加10分钟（加收） | F15: 10分钟 | G15: 23 | H15: =ROUND(G15*0.8,0) -> 18 | I15: =ROUND(G15*0.64,0) -> 15
A16: 治疗费 | B16: 015200000040100 | C16: 言语功能训练-人工智能辅助训练（扩展） | F16: 半小时 | G16: 70 | H16: =ROUND(G16*0.8,0) -> 56 | I16: =ROUND(G16*0.64,0) -> 45
A17: 治疗费 | B17: 015200000050000 | C17: 运动功能训练 | D17: 通过各种康复手段对四肢和躯干的运动功能障碍进行治疗，改善躯体运动功能。 | E17: 所定价格涵盖计划制定、手法及应用不同康复设备进行运动功能训练等步骤所需的人力资源、设备成本与基本物质资源消耗。 | F17: 半小时 | G17: 70 | H17: =ROUND(G17*0.8,0) -> 56 | I17: =ROUND(G17*0.64,0) -> 45 | J17: 每日限计费100分钟。
A18: 治疗费 | B18: 015200000050001 | C18: 运动功能训练-每增加10分钟（加收） | F18: 10分钟 | G18: 23 | H18: =ROUND(G18*0.8,0) -> 18 | I18: =ROUND(G18*0.64,0) -> 15
A19: 治疗费 | B19: 015200000050011 | C19: 运动功能训练-运动功能训练（水中）（加收） | F19: 半小时 | G19: 35 | H19: =ROUND(G19*0.8,0) -> 28 | I19: =ROUND(G19*0.64,0) -> 22
A20: 治疗费 | B20: 015200000050100 | C20: 运动功能训练-人工智能辅助训练（扩展） | F20: 半小时 | G20: 70 | H20: =ROUND(G20*0.8,0) -> 56 | I20: =ROUND(G20*0.64,0) -> 45
A21: 治疗费 | B21: 015200000060000 | C21: 脏器功能训练 | D21: =VLOOKUP(C21,[1]立项指南清稿!$B:$D,2,FALSE) -> 通过各种康复手段对脏器功能障碍进行治疗，改善相关脏器功能。 | E21: =VLOOKUP(C21,[1]立项指南清稿!$B:$D,3,FALSE) -> 所定价格涵盖计划制定、手法及应用不同康复设备进行脏器功能训练等步骤所需的人力资源、设备成本与基本物质资源消耗。 | F21: 半小时 | G21: 70 | H21: =ROUND(G21*0.8,0) -> 56 | I21: =ROUND(G21*0.64,0) -> 45 | J21: 每日限计费1个小时。
A22: 治疗费 | B22: 015200000060001 | C22: 脏器功能训练-每增加10分钟（加收） | F22: 10分钟 | G22: 23 | H22: =ROUND(G22*0.8,0) -> 18 | I22: =ROUND(G22*0.64,0) -> 15
A23: 治疗费 | B23: 015200000060100 | C23: 脏器功能训练-人工智能辅助训练（扩展） | F23: 半小时 | G23: 70 | H23: =ROUND(G23*0.8,0) -> 56 | I23: =ROUND(G23*0.64,0) -> 45
A24: 治疗费 | B24: 015200000070000 | C24: 辅助器具使用训练 | D24: =VLOOKUP(C24,[1]立项指南清稿!$B:$D,2,FALSE) -> 通过选取合适的各种辅助(器)具，结合日常生活活动的训练，提高患者使用辅助器具的能力。 | E24: =VLOOKUP(C24,[1]立项指南清稿!$B:$D,3,FALSE) -> 所定价格涵盖计划制定、各种辅助(器)具训练等步骤所需的人力资源和基本物质资源消耗。 | F24: 半小时 | G24: 20 | H24: =ROUND(G24*0.8,0) -> 16 | I24: =ROUND(G24*0.64,0) -> 13 | J24: 每日限计费1个小时。
A25: 治疗费 | B25: 015200000070001 | C25: 辅助器具使用训练-每增加10分钟（加收） | F25: 10分钟 | G25: 7 | H25: =ROUND(G25*0.8,0) -> 6 | I25: =ROUND(G25*0.64,0) -> 4
A26: 治疗费 | B26: 015200000070100 | C26: 辅助器具使用训练-人工智能辅助训练（扩展） | F26: 半小时 | G26: 20 | H26: =ROUND(G26*0.8,0) -> 16 | I26: =ROUND(G26*0.64,0) -> 13
A27: 治疗费 | B27: 015200000080000 | C27: 生活技能康复训练 | D27: =VLOOKUP(C27,[1]立项指南清稿!$B:$D,2,FALSE) -> 通过各种康复手段（含徒手、仪器或器械）对患者进行独立生活能力、家务劳动、社交技能等多方面康复训练，改善患者从日常生活到职业生涯全方位的能力。 | E27: =VLOOKUP(C27,[1]立项指南清稿!$B:$D,3,FALSE) -> 所定价格涵盖评估、计划制定、指导学习、模拟训练、实际动作训练等步骤所需的人力资源、设备成本与基本物质资源消耗。 | F27: 半小时 | G27: 70 | H27: =ROUND(G27*0.8,0) -> 56 | I27: =ROUND(G27*0.64,0) -> 45 | J27: 每日限计费1个小时。
A28: 治疗费 | B28: 015200000080001 | C28: 生活技能康复训练-每增加10分钟（加收） | F28: 10分钟 | G28: 23 | H28: =ROUND(G28*0.8,0) -> 18 | I28: =ROUND(G28*0.64,0) -> 15
A29: 治疗费 | B29: 015200000080100 | C29: 生活技能康复训练-人工智能辅助训练（扩展） | F29: 半小时 | G29: 70 | H29: =ROUND(G29*0.8,0) -> 56 | I29: =ROUND(G29*0.64,0) -> 45
A30: 治疗费 | B30: 015200000090000 | C30: 职业技能康复训练 | D30: =VLOOKUP(C30,[1]立项指南清稿!$B:$D,2,FALSE) -> 通过各种康复手段（含徒手、仪器或器械）对患者进行独立职业技能、工作模拟等多方面康复训练，改善患者从日常生活到职业生涯全方位的能力。 | E30: =VLOOKUP(C30,[1]立项指南清稿!$B:$D,3,FALSE) -> 所定价格涵盖评估、计划制定、指导学习、模拟训练、实际动作训练等步骤所需的人力资源、设备成本与基本物质资源消耗。 | F30: 半小时 | G30: 70 | H30: =ROUND(G30*0.8,0) -> 56 | I30: =ROUND(G30*0.64,0) -> 45 | J30: 每日限计费1个小时。
A31: 治疗费 | B31: 015200000090001 | C31: 职业技能康复训练-每增加10分钟（加收） | F31: 10分钟 | G31: 23 | H31: =ROUND(G31*0.8,0) -> 18 | I31: =ROUND(G31*0.64,0) -> 15
A32: 治疗费 | B32: 015200000090100 | C32: 职业技能康复训练-人工智能辅助训练（扩展） | F32: 半小时 | G32: 70 | H32: =ROUND(G32*0.8,0) -> 56 | I32: =ROUND(G32*0.64,0) -> 45
A33: 治疗费 | B33: 015200000100000 | C33: 神经发育障碍康复训练（个体） | D33: =VLOOKUP(C33,[1]立项指南清稿!$B:$D,2,FALSE) -> 采用一对一的形式，根据患者发育和能力评估结果制定计划，对患者进行技能训练，帮助患儿提升能力。 | E33: =VLOOKUP(C33,[1]立项指南清稿!$B:$D,3,FALSE) -> 所定价格涵盖评估、计划制定、指导学习、模拟训练、实际动作训练等步骤所需的人力资源、设备成本与基本物质资源消耗。 | F33: 半小时 | G33: 70 | H33: =ROUND(G33*0.8,0) -> 56 | I33: =ROUND(G33*0.64,0) -> 45 | J33: 每日限计费1个小时。
A34: 治疗费 | B34: 015200000100001 | C34: 神经发育障碍康复训练（个体）-每增加10分钟（加收） | F34: 10分钟 | G34: 23 | H34: =ROUND(G34*0.8,0) -> 18 | I34: =ROUND(G34*0.64,0) -> 15
A35: 治疗费 | B35: 015200000100100 | C35: 神经发育障碍康复训练（个体）-人工智能辅助训练（扩展） | F35: 半小时 | G35: 70 | H35: =ROUND(G35*0.8,0) -> 56 | I35: =ROUND(G35*0.64,0) -> 45
A36: 治疗费 | B36: 015200000110000 | C36: 神经发育障碍康复训练（团体） | D36: 通过一对多的形式，根据患者发育和能力评估结果制定计划，对患者进行技能训练，帮助患儿提升能力。 | E36: 所定价格涵盖评估、计划制定、指导学习、模拟训练、实际动作训练等步骤所需的人力资源、设备成本与基本物质资源消耗。 | F36: 半小时 | G36: 40 | H36: =ROUND(G36*0.8,0) -> 32 | I36: =ROUND(G36*0.64,0) -> 26 | J36: 每日限计费1个小时。
A37: 治疗费 | B37: 015200000110001 | C37: 神经发育障碍康复训练（团体）-每增加10分钟（加收） | F37: 10分钟 | G37: 13 | H37: =ROUND(G37*0.8,0) -> 10 | I37: =ROUND(G37*0.64,0) -> 8
A38: 治疗费 | B38: 015200000110100 | C38: 神经发育障碍康复训练（团体）-人工智能辅助训练（扩展） | F38: 半小时 | G38: 40 | H38: =ROUND(G38*0.8,0) -> 32 | I38: =ROUND(G38*0.64,0) -> 26
A39: 检查费 | B39: 015100000010000 | C39: 认知功能检查 | D39: =VLOOKUP(C39,[1]立项指南清稿!$B:$D,2,FALSE) -> 应用常用工具、仪器设备和软件程序等方式，对患者的记忆、注意、执行等认知功能水平进行测评分析，做出认知功能有无障碍及严重程度的判断。 | E39: =VLOOKUP(C39,[1]立项指南清稿!$B:$D,3,FALSE) -> 所定价格涵盖资料收集、状态评估、应用各种方式测查、分析、得出结论等步骤所需的人力资源、设备成本与基本物质资源消耗。 | F39: 次 | G39: 45 | H39: =ROUND(G39*0.8,0) -> 36 | I39: =ROUND(G39*0.64,0) -> 29 | J39: 不与临床量表项目同时收取。
A40: 检查费 | B40: 015100000010100 | C40: 认知功能检查-人工智能辅助检查（扩展） | F40: 次 | G40: 45 | H40: =ROUND(G40*0.8,0) -> 36 | I40: =ROUND(G40*0.64,0) -> 29
A41: 检查费 | B41: 015100000020000 | C41: 吞咽功能检查 | D41: =VLOOKUP(C41,[1]立项指南清稿!$B:$D,2,FALSE) -> 应用各种筛查技术以及食物稠度粘度测试等临床吞咽功能检查方式，对影响患者吞咽过程的器官结构及功能进行检查，做出吞咽功能有无障碍及严重程度的判断。 | E41: =VLOOKUP(C41,[1]立项指南清稿!$B:$D,3,FALSE) -> 所定价格涵盖资料收集、状态评估、应用各种方式测查、分析、得出结论等步骤所需的人力资源、设备成本与基本物质资源消耗。 | F41: 次 | G41: 45 | H41: =ROUND(G41*0.8,0) -> 36 | I41: =ROUND(G41*0.64,0) -> 29 | J41: 不与临床量表项目同时收取。
A42: 检查费 | B42: 015100000020100 | C42: 吞咽功能检查-人工智能辅助检查（扩展） | F42: 次 | G42: 45 | H42: =ROUND(G42*0.8,0) -> 36 | I42: =ROUND(G42*0.64,0) -> 29
A43: 检查费 | B43: 015100000030000 | C43: 言语功能检查 | D43: =VLOOKUP(C43,[1]立项指南清稿!$B:$D,2,FALSE) -> 应用言语-语言筛查工具及设备、构音评估方法等手段，对患者的发声、构音等言语能力及听理解、复述、朗读等语言能力进行测查分析，做出言语-语言功能有无障碍及严重程度的判断。 | E43: =VLOOKUP(C43,[1]立项指南清稿!$B:$D,3,FALSE) -> 所定价格涵盖资料收集、状态评估、应用各种方式测查、分析、得出结论等步骤所需的人力资源、设备成本与基本物质资源消耗。 | F43: 次 | G43: 35 | H43: =ROUND(G43*0.8,0) -> 28 | I43: =ROUND(G43*0.64,0) -> 22 | J43: 不与临床量表项目同时收取。
A44: 检查费 | B44: 015100000030100 | C44: 言语功能检查-人工智能辅助检查（扩展） | F44: 次 | G44: 35 | H44: =ROUND(G44*0.8,0) -> 28 | I44: =ROUND(G44*0.64,0) -> 22
A45: 检查费 | B45: 015100000040000 | C45: 运动功能检查 | D45: =VLOOKUP(C45,[1]立项指南清稿!$B:$D,2,FALSE) -> 应用各种方式，对患者的肌力、关节活动范围、平衡功能、步态、体态等运动功能进行测查分析，做出运动功能有无障碍及严重程度的判断。 | E45: =VLOOKUP(C45,[1]立项指南清稿!$B:$D,3,FALSE) -> 所定价格涵盖资料收集、状态评估、应用各种方式测查、分析、得出结论等步骤所需的人力资源与基本物质资源消耗。 | F45: 次 | G45: 40 | H45: =ROUND(G45*0.8,0) -> 32 | I45: =ROUND(G45*0.64,0) -> 26 | J45: 不与临床量表项目同时收取。
A46: 检查费 | B46: 015100000040100 | C46: 运动功能检查-人工智能辅助检查（扩展） | F46: 次 | G46: 40 | H46: =ROUND(G46*0.8,0) -> 32 | I46: =ROUND(G46*0.64,0) -> 26
A47: 检查费 | B47: 015100000050000 | C47: 脏器功能检查 | D47: =VLOOKUP(C47,[1]立项指南清稿!$B:$D,2,FALSE) -> 应用各种工具、仪器设备等方式，对患者的运动心功能、运动肺功能、呼吸肌功能、膀胱容量等脏器功能进行检查分析，做出脏器功能有无障碍及严重程度的判断。 | E47: =VLOOKUP(C47,[1]立项指南清稿!$B:$D,3,FALSE) -> 所定价格涵盖资料收集、状态评估、应用各种方式测查、分析、得出结论等步骤所需的人力资源、设备成本与基本物质资源消耗。 | F47: 次 | G47: 30 | H47: =ROUND(G47*0.8,0) -> 24 | I47: =ROUND(G47*0.64,0) -> 19 | J47: 不与临床量表项目同时收取。
A48: 检查费 | B48: 015100000050100 | C48: 脏器功能检查-人工智能辅助检查（扩展） | F48: 次 | G48: 30 | H48: =ROUND(G48*0.8,0) -> 24 | I48: =ROUND(G48*0.64,0) -> 19
A49: 检查费 | B49: 015100000060000 | C49: 神经发育障碍检查 | D49: 由受培训专业人员、运用专门工具对于患者的认知、注意力、执行功能、社会、情感、智力、运动能力的发育和发展进行评估结果，为神经发育障碍患者的诊断、治疗和康复提供依据。 | E49: 所定价格涵盖资料收集、状态评估、应用各种方式测查、分析、得出结论等步骤所需的人力资源、设备成本与基本物质资源消耗。 | F49: 次 | G49: 23 | H49: =ROUND(G49*0.8,0) -> 18 | I49: =ROUND(G49*0.64,0) -> 15 | J49: 不与临床量表项目同时收取。
A50: 检查费 | B50: 015100000060100 | C50: 神经发育障碍检查-人工智能辅助检查（扩展） | F50: 次 | G50: 23 | H50: =ROUND(G50*0.8,0) -> 18 | I50: =ROUND(G50*0.64,0) -> 15
A51: 检查费 | B51: 012408000020000 | C51: 心电监测费 | D51: 实时监测患者心率、心律、心电波形等，必要时监测呼吸频率、呼吸波形、血压、血氧饱和度等参数。 | E51: 所定价格涵盖皮肤清洁、安放电极、连接设备、设定参数、实时监测等步骤所需的人力资源、设备运转成本与基本物质资源消耗。 | F51: 小时 | G51: 7 | H51: 5.5 | I51: 4.5
A52: 检查费 | B52: 012408000020100 | C52: 心电监测费-遥测心电监测（扩展） | F52: 小时 | G52: 7 | H52: 5.5 | I52: 4.5
A53: 检查费 | B53: 012408000030000 | C53: 常规心电图检查费 | D53: 通过心电图机体表采集十二导联及以下心电数据。 | E53: 所定价格涵盖皮肤清洁、安放电极、连接设备、采集信号、数据分析、出具报告等步骤所需的人力资源、设备运转成本与基本物质资源消耗。 | F53: 次 | G53: 30 | H53: 24 | I53: 19
A54: 检查费 | B54: 012408000030001 | C54: 常规心电图检查费十二导联以上（加收） | F54: 次 | G54: 5 | H54: 4 | I54: 3
A55: 检查费 | B55: 012408000030011 | C55: 常规心电图检查费-心脏晚电位检查（加收） | F55: 次 | G55: 14 | H55: 11 | I55: 9
A56: 检查费 | B56: 012408000030100 | C56: 常规心电图检查费-心电向量图（扩展） | F56: 次 | G56: 30 | H56: 24 | I56: 19
A57: 检查费 | B57: 012408000031100 | C57: 常规心电图检查费-频谱心电图（扩展） | F57: 次 | G57: 30 | H57: 24 | I57: 19
A58: 检查费 | B58: 012408000040000 | C58: 心率变异性分析检查费 | D58: 通过连续记录心电图数据分析心率变化情况。 | E58: 所定价格涵盖皮肤清洁、安放电极、连接设备、采集信号、数据分析、出具报告等步骤所需的人力资源、设备运转成本与基本物质资源消耗。 | F58: 次 | G58: 44 | H58: 35 | I58: =H58*0.8 -> 28
A59: 检查费 | B59: 012408000050000 | C59: 心电图负荷检查费 | D59: 通过各类运动负荷或药物诱导试验等方式，对比监测心电和血压变化，协助诊断疾病。 | E59: 所定价格涵盖皮肤清洁、安放电极、记录静息心电图、增加负荷、监测心电和血压变化、数据分析、出具报告等步骤所需的人力资源、设备运转成本与基本物质资源消耗。 | F59: 次 | G59: 130 | H59: =G59*0.8 -> 104 | I59: =H59*0.8 -> 83.2
A60: 检查费 | B60: 012408000060000 | C60: 动态心电图检查费 | D60: 通过获取连续的心电图监测数据，协助诊断疾病。 | E60: 所定价格涵盖皮肤清洁、安放电极、连接设备、采集信号、数据分析、出具报告等步骤所需的人力资源、设备运转成本与基本物质资源消耗。 | F60: 日 | G60: 160 | H60: =G60*0.8 -> 128 | I60: =H60*0.8 -> 102.4 | J60: 单次检查收取不超过3天，个别患者确有必要的最多可收取5天费用。
A61: 检查费 | B61: 012408000070000 | C61: 心腔内超声心动图检查费 | D61: 通过将超声探头置于心腔内部，观察心脏各个腔室情况。 | E61: 所定价格涵盖皮肤清洁、静脉穿刺、置入导管、成像检查、撤除导管、数据分析、出具报告等步骤所需的人力资源、设备运转成本与基本物质资源消耗。 | F61: 次 | G61: 360 | H61: =G61*0.8 -> 288 | I61: =H61*0.8 -> 230.4
A62: 治疗费 | B62: 013107000010000 | C62: 经食管心脏调搏费 | D62: 通过食管电极对左心房或邻近心脏组织进行电刺激，进行电生理评估或终止室上速。 | E62: 所定价格涵盖皮肤清洁、安置导管和电极、连接设备、电刺激、采集信号、数据分析、出具报告等步骤所需的人力资源、设备运转成本与基本物质资源消耗。 | F62: 次 | G62: 175 | H62: =G62*0.8 -> 140 | I62: =H62*0.8 -> 112
A63: 治疗费 | B63: 013107000020000 | C63: 经食管心脏起搏费 | D63: 通过食管电极对左心房或邻近心脏组织进行电刺激，进行临时起搏。 | E63: 所定价格涵盖皮肤清洁、安置导管和电极、连接设备、电刺激、调整起搏参数等步骤所需的人力资源、设备运转成本与基本物质资源消耗。 | F63: 次 | G63: 130 | H63: =G63*0.8 -> 104 | I63: =H63*0.8 -> 83.2
A64: 检查费 | B64: 012408000080000 | C64: 心腔三维标测费 | D64: 通过动脉、静脉或心包置入三维标测电极，利用三维重建技术获取心腔三维结构。 | E64: 所定价格涵盖应用各种三维标测技术构建心腔三维图像所需的人力资源与基本物质资源消耗。 | F64: 次 | G64: 1000 | H64: =G64*0.8 -> 800 | I64: =H64*0.8 -> 640
A65: 检查费 | B65: 012408000090000 | C65: 直立倾斜检查费 | D65: 通过改变体位，监测患者心率、血压和神智的变化，协助诊断疾病。 | E65: 所定价格涵盖皮肤清洁、安放电极、患者固定、改变体位、监测心电和血压变化、观察患者表现、数据分析、出具报告等步骤所需的人力资源与基本物质资源消耗。 | F65: 次 | G65: 155 | H65: =G65*0.8 -> 124 | I65: =H65*0.8 -> 99.2 | J65: 不与“心电监测费”同时收取。
A66: 检查费 | B66: 012408000100000 | C66: 6分钟步行检查费 | D66: 通过步行速度评估患者心脏功能及运动耐力。 | E66: 所定价格涵盖设备准备、测试过程中生命体征监测、撤除设备、出具报告等步骤所需的人力资源和基本物质资源消耗。 | F66: 次 | G66: 40 | H66: =G66*0.8 -> 32 | I66: =H66*0.8 -> 25.6 | J66: 不与“心电监测费”同时收取。
A67: 检查费 | B67: 012408000110000 | C67: 无创动态血压监测费 | D67: 通过无创的方式连续监测患者血压，获取24小时中多次血压监测数据。 | E67: 所定价格涵盖固定袖带、动态监测血压、采集数据、撤除袖带、分析、出具报告等步骤所需的人力资源与基本物质资源消耗。 | F67: 日 | G67: 120 | H67: =G67*0.8 -> 96 | I67: =H67*0.8 -> 76.8
A68: 检查费 | B68: 012408000120000 | C68: 无创肢体动脉检查费 | D68: 通过无创的方式评估外周动脉病变情况。 | E68: 所定价格涵盖皮肤清洁、节段性测压或安置传感器、采集数据、撤除传感器、分析、出具报告等步骤所需的人力资源与基本物质资源消耗。 | F68: 次 | G68: 60 | H68: =G68*0.8 -> 48 | I68: =H68*0.8 -> 38.4
A69: 治疗费 | B69: 013107000030000 | C69: 心脏电除颤/电复律费 | D69: 通过体外直流电除颤/电复律以改变心律。 | E69: 所定价格涵盖设备安装、除颤或复律、撤除设备等步骤所需的人力资源和基本物质资源消耗。 | F69: 次 | G69: 140 | H69: =G69*0.8 -> 112 | I69: =H69*0.8 -> 89.6
A70: 检查费 | B70: 012408000130000 | C70: 连续无创容积变异指数监测费 | D70: 通过无创方式连续监测评估患者的血容量状态和液体反应性。 | E70: 所定价格涵盖连接设备，连续测量无创容积变异指数、记录数据、撤除设备等步骤所需的人力资源和基本物质资源消耗。 | F70: 小时 | G70: 8 | H70: =G70*0.8 -> 6.4 | I70: =H70*0.8 -> 5.12
A71: 检查费 | B71: 012408000140000 | C71: 有创血流动力学监测费 | D71: 通过侵入性的方式测量血流动力学参数指标。 | E71: 所定价格涵盖连接设备、监测血流动力学相关数据、撤除设备等步骤所需的人力资源和基本物质资源消耗。 | F71: 小时 | G71: 21 | H71: =G71*0.8 -> 16.8 | I71: =H71*0.8 -> 13.44
A72: 检查费 | B72: 012408000150000 | C72: 无创血流动力学检查费 | D72: 通过非侵入性的各种检查方法测量血流动力学参数指标。 | E72: 所定价格涵盖连接设备、监测血流动力学相关数据、撤除设备等步骤所需的人力资源和基本物质资源消耗。 | F72: 项 | G72: 16 | H72: =G72*0.8 -> 12.8 | I72: =H72*0.8 -> 10.24 | J72: 本项目中的“各种检查方法”指：心血流图、心尖搏动图、心音图、心阻抗图、心排出量检查。
A73: 治疗费 | B73: 013107000040000 | C73: 体外反搏治疗费 | D73: 通过球囊使主动脉内收缩期血压降低和舒张期血压增高。 | E73: 所定价格涵盖皮肤清洁、连接体外反搏设备行体外反搏治疗、撤除设备等所需步骤的人力资源和基本物质资源消耗。 | F73: 次 | G73: 77 | H73: =G73*0.8 -> 61.6 | I73: =H73*0.8 -> 49.28
A74: 检查费 | B74: 012408000010000 | C74: 心脏植入式装置适配费 | D74: 对已置入的心脏植入式电子装置进行程控测试。 | E74: 所定价格涵盖心脏植入式电子装置连接、数据读取分析、参数调整、功能优化、安全性检查等步骤所需的人力资源和基本物资消耗。 | F74: 次 | G74: 79 | H74: =G74*0.8 -> 63.2 | I74: =H74*0.8 -> 50.56 | J74: 1.需在检查或手术治疗前后分别调整的按一次费用收取。 2.植入手术后的初次调试不得收取费用。
A75: 检查费 | B75: 012408000010100 | C75: 心脏植入式装置适配费-远程适配（扩展） | F75: 次 | G75: 79 | H75: =G75*0.8 -> 63.2 | I75: =H75*0.8 -> 50.56
A76: 检查费 | B76: 012408000190000 | C76: 冠状动脉造影费 | D76: 通过介入的方式对冠状动脉进行检查。 | E76: 所定价格涵盖手术计划、术区准备、消毒铺巾、建立通路、冠状动脉造影、撤除、闭合血管通路等手术步骤所需的人力资源和基本物质资源消耗。 | F76: 次 | G76: 2000 | H76: =G76*0.8 -> 1600 | I76: =H76*0.8 -> 1280
A77: 检查费 | B77: 012408000190001 | C77: 冠状动脉造影费-儿童（加收） | F77: 次 | G77: 400 | H77: =G77*0.8 -> 320 | I77: =H77*0.8 -> 256
A78: 检查费 | B78: 012408000190011 | C78: 冠状动脉造影费-桥血管造影（加收） | F78: 次 | G78: 600 | H78: =G78*0.8 -> 480 | I78: =H78*0.8 -> 384
A79: 检查费 | B79: 012408000190021 | C79: 冠状动脉造影费-左心室造影（加收） | F79: 次 | G79: 500 | H79: =G79*0.8 -> 400 | I79: =H79*0.8 -> 320
A80: 检查费 | B80: 012408000200000 | C80: 冠状动脉腔内影像学检查费 | D80: 在冠状动脉造影基础上进行腔内影像学检查。 | E80: 所定价格涵盖连接设备、观察心腔内影像情况、撤除设备等步骤所需的人力资源和基本物质资源消耗。不含冠状动脉造影。 | F80: 次 | G80: 1625 | H80: =G80*0.8 -> 1300 | I80: =H80*0.8 -> 1040 | J80: 本项目中的“冠状动脉腔内影像学检查费”指：冠状动脉血管内超声检查、冠状动脉光学相干断层成像。
A81: 检查费 | B81: 012408000210000 | C81: 冠状动脉血流储备功能检查费 | D81: 在冠状动脉造影基础上进行血流储备功能检查。 | E81: 所定价格涵盖连接设备、测量冠状动脉血流储备功能、撤除设备等步骤所需的人力资源和基本物质资源消耗。不含冠状动脉造影。 | F81: 次 | G81: 600 | H81: =G81*0.8 -> 480 | I81: =H81*0.8 -> 384 | J81: 本项目中的“冠状动脉血流储备功能检查费”指：冠状动脉造影检查中通过压力导丝、传感器、造影图像等方式获取的血流储备功能情况，包括但不限于FFR、CFR、QFR、caFFR、iFR等不同测定方法。
A82: 检查费 | B82: 012408000220000 | C82: 冠状动脉微循环阻力检查费 | D82: 在冠状动脉造影基础上进行微循环阻力检查。 | E82: 所定价格涵盖连接设备、测量冠状动脉微循环阻力、撤除设备等步骤所需的人力资源和基本物质资源消耗。不含冠状动脉造影。 | F82: 次 | G82: 600 | H82: =G82*0.8 -> 480 | I82: =H82*0.8 -> 384 | J82: 本项目中的“冠状动脉微循环阻力检查费”指：冠状动脉造影检查中通过压力导丝、传感器、造影图像等方式获取的冠脉微循环阻力情况，包括但不限于IMR、caIMR等不同测定方法。
A83: 手术费 | B83: 013308000030000 | C83: 冠状动脉支架置入费 | D83: 通过支架扩张冠状动脉。 | E83: 所定价格涵盖手术计划、术区准备、消毒铺巾、建立通路、支架置入、确认治疗效果、撤除、闭合通路，必要时球囊扩张等手术步骤所需的人力资源和基本物质资源消耗。不含冠状动脉造影。 | F83: 血管 | G83: 3610 | H83: =G83*0.8 -> 2888 | I83: =H83*0.8 -> 2310.4 | J83: 1.本项目中的“血管”指：左主干、左前降支、左回旋支、右冠状动脉及每支桥血管。 2.同一血管不与“冠状动脉球囊扩张费”同时收取。
A84: 手术费 | B84: 013308000030001 | C84: 冠状动脉支架置入费-儿童（加收） | F84: 血管 | G84: 722 | H84: =G84*0.8 -> 577.6 | I84: =H84*0.8 -> 462.08
A85: 手术费 | B85: 013308000040000 | C85: 冠状动脉球囊扩张费 | D85: 通过球囊扩张冠状动脉。 | E85: 所定价格涵盖手术计划、术区准备、消毒铺巾、建立通路、球囊扩张、确认治疗效果、撤除、闭合通路等手术步骤所需的人力资源和基本物质资源消耗。不含冠状动脉造影。 | F85: 血管 | G85: 3020 | H85: =G85*0.8 -> 2416 | I85: =H85*0.8 -> 1932.8 | J85: 1.本项目中的“血管”指：左主干、左前降支、左回旋支、右冠状动脉及每支桥血管。 2.同一血管不与“冠状动脉支架置入费”同时收取。
A86: 手术费 | B86: 013308000040001 | C86: 冠状动脉球囊扩张费-儿童（加收） | F86: 血管 | G86: 604 | H86: =G86*0.8 -> 483.2 | I86: =H86*0.8 -> 386.56
A87: 手术费 | B87: 013308000050000 | C87: 冠状动脉慢性完全闭塞血管逆向再通治疗费 | D87: 通过血管闭塞端近段及远端两端操作疏通血管。 | E87: 所定价格涵盖手术计划、术区准备、消毒铺巾、建立通路、连通闭塞段两端、确认治疗效果、撤除、闭合血管通路等所需手术步骤的人力资源和基本物质资源消耗。不含冠状动脉造影。 | F87: 血管 | G87: 4320 | H87: =G87*0.8 -> 3456 | I87: =H87*0.8 -> 2764.8 | J87: 本项目中的“血管”指：左主干、左前降支、左回旋支、右冠状动脉及每支桥血管。
A88: 手术费 | B88: 013308000050001 | C88: 冠状动脉慢性完全闭塞血管逆向再通治疗费-儿童（加收） | F88: 血管 | G88: 864 | H88: =G88*0.8 -> 691.2 | I88: =H88*0.8 -> 552.96
A89: 手术费 | B89: 013308000060000 | C89: 冠状动脉腔内减容费 | D89: 通过激光、旋切、旋磨、振波、血栓抽吸等各种物理或机械方式消除斑块或血栓。 | E89: 所定价格涵盖手术计划、术区准备、消毒铺巾、建立通路、消除斑块、确认治疗效果、撤除、闭合通路等手术步骤所需的人力资源和基本物质资源消耗。不含冠状动脉造影。 | F89: 血管 | G89: 3095 | H89: =G89*0.8 -> 2476 | I89: =H89*0.8 -> 1980.8 | J89: 本项目中的“血管”指：左主干、左前降支、左回旋支、右冠状动脉及每支桥血管。
A90: 手术费 | B90: 013308000060001 | C90: 冠状动脉腔内减容费-儿童（加收） | F90: 血管 | G90: 619 | H90: =G90*0.8 -> 495.2 | I90: =H90*0.8 -> 396.16
A91: 手术费 | B91: 013308000070000 | C91: 冠状动脉溶栓费 | D91: 通过介入方式对冠状动脉进行溶栓治疗。 | E91: 所定价格涵盖手术计划、术区准备、消毒铺巾、建立通路、溶栓、确认治疗效果、撤除、闭合通路等手术步骤所需的人力资源和基本物质资源消耗。不含冠状动脉造影。 | F91: 次 | G91: 1350 | H91: =G91*0.8 -> 1080 | I91: =H91*0.8 -> 864
A92: 手术费 | B92: 013308000070001 | C92: 冠状动脉溶栓费-儿童（加收） | F92: 次 | G92: 270 | H92: =G92*0.8 -> 216 | I92: =H92*0.8 -> 172.8
A93: 治疗费 | B93: 013107000050000 | C93: 主动脉内球囊反搏安装费 | D93: 安装并运行球囊反搏设备。 | E93: 所定价格涵盖经皮穿刺或切开、球囊导管送至降主动脉、固定导管、连接机器、启动反搏等手术步骤所需的人力资源和基本物质资源消耗。 | F93: 次 | G93: 1850 | H93: =G93*0.8 -> 1480 | I93: =H93*0.8 -> 1184
A94: 治疗费 | B94: 013107000060000 | C94: 主动脉内球囊反搏取出费 | D94: 停止并撤除球囊反搏设备。 | E94: 所定价格涵盖停止设备、球囊排气、撤除导管、缝合或压迫止血等手术步骤所需的人力资源和基本物质资源消耗。 | F94: 次 | G94: 300 | H94: =G94*0.8 -> 240 | I94: =H94*0.8 -> 192
A95: 检查费 | B95: 012408000160000 | C95: 主动脉内球囊反搏运行监测费 | D95: 持续监测患者的反搏压及心功能，根据情况进行实时调整。 | E95: 所定价格涵盖监测患者的反搏压及心功能、调整机器工作模式及参数、记录参数及患者相关指标等步骤所需的人力资源和基本物质资源消耗。 | F95: 小时 | G95: 48 | H95: =G95*0.8 -> 38.4 | I95: =H95*0.8 -> 30.72
A96: 检查费 | B96: 012408000230000 | C96: 右心导管检查费 | D96: 通过导管检查测量中心静脉压、右心室压、心输出量、肺动脉压等指标。 | E96: 所定价格涵盖手术计划、术区准备、消毒铺巾、置入鞘管、测定压力、撤除、闭合通路等手术步骤所需的人力资源和基本物质资源消耗。 | F96: 次 | G96: 1400 | H96: =G96*0.8 -> 1120 | I96: =H96*0.8 -> 896
A97: 检查费 | B97: 012408000230001 | C97: 右心导管检查费-儿童（加收） | F97: 次 | G97: 280 | H97: =G97*0.8 -> 224 | I97: =H97*0.8 -> 179.2
A98: 检查费 | B98: 012408000240000 | C98: 左心导管检查费 | D98: 通过导管检查测量主动脉压、左心室压等指标。 | E98: 所定价格涵盖手术计划、术区准备、消毒铺巾、置入鞘管、测定压力、撤除、闭合通路等手术步骤所需的人力资源和基本物质资源消耗。 | F98: 次 | G98: 1500 | H98: =G98*0.8 -> 1200 | I98: =H98*0.8 -> 960
A99: 检查费 | B99: 012408000240001 | C99: 左心导管检查费-儿童（加收） | F99: 次 | G99: 300 | H99: =G99*0.8 -> 240 | I99: =H99*0.8 -> 192
A100: 手术费 | B100: 013308000080000 | C100: 主动脉瓣成形费（介入） | D100: 通过介入的方式治疗主动脉瓣瓣膜狭窄或关闭不全。 | E100: 所定价格涵盖手术计划、术区准备、消毒铺巾、建立通路、病变瓣膜成形、撤除、闭合血管通路等手术步骤所需的人力资源和基本物质资源消耗。 | F100: 次 | G100: 3460 | H100: =G100*0.8 -> 2768 | I100: =H100*0.8 -> 2214.4
...
